BEGIN:VCALENDAR
VERSION:2.0
PRODID:-//Excel4Pro - ECPv6.15.11//NONSGML v1.0//EN
CALSCALE:GREGORIAN
METHOD:PUBLISH
X-WR-CALNAME:Excel4Pro
X-ORIGINAL-URL:https://excel4pro.eu
X-WR-CALDESC:Events for Excel4Pro
REFRESH-INTERVAL;VALUE=DURATION:PT1H
X-Robots-Tag:noindex
X-PUBLISHED-TTL:PT1H
BEGIN:VTIMEZONE
TZID:UTC
BEGIN:STANDARD
TZOFFSETFROM:+0000
TZOFFSETTO:+0000
TZNAME:UTC
DTSTART:20240101T000000
END:STANDARD
END:VTIMEZONE
BEGIN:VTIMEZONE
TZID:Europe/Moscow
BEGIN:STANDARD
TZOFFSETFROM:+0300
TZOFFSETTO:+0300
TZNAME:MSK
DTSTART:20240101T000000
END:STANDARD
END:VTIMEZONE
BEGIN:VEVENT
DTSTART;TZID=UTC:20251125T130000
DTEND;TZID=UTC:20251125T160000
DTSTAMP:20260423T053437
CREATED:20250527T122048Z
LAST-MODIFIED:20251119T115635Z
UID:10000003-1764075600-1764086400@excel4pro.eu
SUMMARY:Excel4Pro - SWOT Analysis Event National HUB | Greece
DESCRIPTION:The Plant-based Protein Hub of Greece\, coordinated by National Technical University of Athens (NTUA)\, together with partners including JOTIS\, PRINSUS\, Reframe.food\, and Region of Peloponnese\, under the Excel4Pro Project\, is inviting Greek companies\, startups\, and research organizations to its national hybrid SWOT Analysis workshop on 25 November 2025 at School of Chemical Engineering\, National Technical University of Athens. \nThis interactive session will explore the strengths\, challenges\, and opportunities of Greece’s plant-based ecosystem\, helping shape the future of sustainable food innovation. \nParticipants will: \n\ngain insights into market trends\naccess funding opportunities of up to €40\,000 for collaborative projects\nreceive mentoring and business modeling support\, and\nconnect with partners from Greece\, Turkey\, and Ukraine.\n\nThe workshop is an open invitation to those active in food\, biotechnology\, and agrifood innovation to contribute ideas\, develop pilot-scale products\, and help position Greece as a leader in the plant-based sector. \n\nTime: 13:00 – 16:00 (GMT +3)\nJoin the event here.\nRead the full agenda here.
URL:https://excel4pro.eu/event/excel4pro-swot-analysis-event-national-hub-greece/
LOCATION:School of Chemical Engineering\, National Technical University of Athens\, National Technical University of Athens - Polytechnic Campus (Zografou 15772)\, Athens\, Greece
CATEGORIES:Project Events
ATTACH;FMTTYPE=image/jpeg:https://excel4pro.eu/wp-content/uploads/2025/05/National-Hybrid-SWOT-Analysis-event-by-NTUA-Greece.jpg
END:VEVENT
BEGIN:VEVENT
DTSTART;TZID=Europe/Moscow:20251021T132500
DTEND;TZID=Europe/Moscow:20251021T172500
DTSTAMP:20260423T053437
CREATED:20250402T154851Z
LAST-MODIFIED:20251117T141702Z
UID:10000001-1761053100-1761067500@excel4pro.eu
SUMMARY:Excel4Pro & Protwin Joint National Workshop: Türkiye’s Plant-Based Protein Vision | Gebze
DESCRIPTION:On October 21st\, 2025\, the Excel4Pro and Protwin projects will host a high-level National Workshop in Gebze\, coordinated by TÜBİTAK Marmara Research Center. This half-day onsite event will bring together key stakeholders including project partners\, policy makers\, local and regional authorities\, universities\, SMEs\, and technical researchers\, to discuss the future of plant-based protein in Türkiye. \nThe workshop will feature a national-level SWOT analysis\, along with need assessments and strategic discussions\, all aimed at shaping Türkiye’s plant-based protein strategy document. This collaborative session will serve as a crucial milestone in aligning innovation\, policy\, and sustainability goals for the country’s growing plant-based protein sector. \nBy fostering dialogue between experts and decision-makers\, the workshop underscores how strategy meets sustainability\, paving the way for a resilient and innovative plant-based protein ecosystem in Türkiye.Gebze Technical University
URL:https://excel4pro.eu/event/excel4pro-protwin-joint-national-workshop-turkiyes-plant-based-protein-vision-gebze/
LOCATION:Gebze Technical University\, Cumhuriyet\, 2254. Sk. No:2\, 41400\, Gebze/Kocaeli\, Türkiye\, Turkey
CATEGORIES:Project Events
ATTACH;FMTTYPE=image/jpeg:https://excel4pro.eu/wp-content/uploads/2025/04/National-Workshop-in-Gebze-by-TUBITAK-MAM.jpg
END:VEVENT
END:VCALENDAR