BEGIN:VCALENDAR
VERSION:2.0
PRODID:-//Excel4Pro - ECPv6.15.11//NONSGML v1.0//EN
CALSCALE:GREGORIAN
METHOD:PUBLISH
X-WR-CALNAME:Excel4Pro
X-ORIGINAL-URL:https://excel4pro.eu
X-WR-CALDESC:Events for Excel4Pro
REFRESH-INTERVAL;VALUE=DURATION:PT1H
X-Robots-Tag:noindex
X-PUBLISHED-TTL:PT1H
BEGIN:VTIMEZONE
TZID:Europe/Helsinki
BEGIN:DAYLIGHT
TZOFFSETFROM:+0200
TZOFFSETTO:+0300
TZNAME:EEST
DTSTART:20240331T010000
END:DAYLIGHT
BEGIN:STANDARD
TZOFFSETFROM:+0300
TZOFFSETTO:+0200
TZNAME:EET
DTSTART:20241027T010000
END:STANDARD
BEGIN:DAYLIGHT
TZOFFSETFROM:+0200
TZOFFSETTO:+0300
TZNAME:EEST
DTSTART:20250330T010000
END:DAYLIGHT
BEGIN:STANDARD
TZOFFSETFROM:+0300
TZOFFSETTO:+0200
TZNAME:EET
DTSTART:20251026T010000
END:STANDARD
BEGIN:DAYLIGHT
TZOFFSETFROM:+0200
TZOFFSETTO:+0300
TZNAME:EEST
DTSTART:20260329T010000
END:DAYLIGHT
BEGIN:STANDARD
TZOFFSETFROM:+0300
TZOFFSETTO:+0200
TZNAME:EET
DTSTART:20261025T010000
END:STANDARD
END:VTIMEZONE
BEGIN:VEVENT
DTSTART;TZID=Europe/Helsinki:20251216T140000
DTEND;TZID=Europe/Helsinki:20251216T150000
DTSTAMP:20260422T095354
CREATED:20251208T103910Z
LAST-MODIFIED:20251229T091435Z
UID:10000004-1765893600-1765897200@excel4pro.eu
SUMMARY:Excel4Pro Webinar - Redefining Meat and Dairy\, Powered by Plants | Online
DESCRIPTION:Excel4Pro is excited to announce its first publicly accessible webinar\, “Redefining Meat and Dairy\, Powered by Plants\,” taking place on 16 December. Organized by Foodback\, the webinar is designed to engage the wider innovation ecosystem. By bringing together researchers\, early-stage companies\, startups\, and industry stakeholders\, the event aims to raise awareness of sustainable protein innovation and foster collaborative solutions that can accelerate progress in the field. \nWhat will you learn: \n\nKey research trends and scientific breakthroughs in sustainable proteins\nInsights from industry stakeholders on market needs and commercialization pathways\nOpportunities for collaboration across academia\, industry\, and policy\n\nMeet our Speakers: \n\nMüge İşleten Hocaoğlu\, Associate Professor at Gebze Technical University\nAnıl Ünver\, General Manager at Veggy\nTürker Yaşın\, CEO & Founder at Plantero\n\nThe event will also introduce Excel4Pro’s mission and its activities\, outlining how the project supports innovation\, ecosystem building\, and capacity development in the alternative and sustainable protein landscape. \n\nTime: 13:00 – 14:00 (CET)\nRegister here.
URL:https://excel4pro.eu/event/excel4pro-webinar-redefining-meat-and-dairy-powered-by-plants-online/
LOCATION:Online
CATEGORIES:Project Events
ATTACH;FMTTYPE=image/png:https://excel4pro.eu/wp-content/uploads/2025/12/Webinar-1-Redefining-Meat-and-Dairy-Powered-by-Plants.png
ORGANIZER;CN="Foodback":MAILTO:ekip@foodback.co
END:VEVENT
BEGIN:VEVENT
DTSTART;TZID=Europe/Helsinki:20251225T140000
DTEND;TZID=Europe/Helsinki:20251225T150000
DTSTAMP:20260422T095354
CREATED:20251229T092118Z
LAST-MODIFIED:20251229T092118Z
UID:10000005-1766671200-1766674800@excel4pro.eu
SUMMARY:Excel4Pro Meetups: Chat & Taste with Farmhood
DESCRIPTION:Excel4Pro is organizing an inspiring event focused on sustainable food systems\, entrepreneurship\, and alternative proteins. At this event\, Selin Arslan\, Founder of Farmhood\, will share her entrepreneurship journey\, sustainable food vision\, and experiences in developing plant-based\, protein-enriched products. The talk will be moderated by Ayşe Sabuncu\, Co-Founder of Foodback. \nFollowing the talk\, there will be a tasting of high-protein snacks developed by Farmhood. \nThe event is open to all students\, academics\, and stakeholders interested in entrepreneurship\, alternative proteins\, and sustainable food. Since the event has limited capacity\, we recommend registering as soon as possible. \nDate: December 25\, 2025Time: 14:00 – 15:00Location: Gebze Technical University\, Biotechnology Institute Seminar Hall Amphitheater-1 (Basement Level) \nLocation details:Gebze Technical UniversityCumhuriyet\, 2254. Sk. No:2\, 41400 Gebze/Kocaeli\, TurkeyBiotechnology Institute Seminar Hall
URL:https://excel4pro.eu/event/excel4pro-meetups-chat-taste-with-farmhood/
LOCATION:Gebze Technical University\, Cumhuriyet\, 2254. Sk. No:2\, 41400\, Gebze/Kocaeli\, Türkiye\, Turkey
CATEGORIES:Project Events
ATTACH;FMTTYPE=image/jpeg:https://excel4pro.eu/wp-content/uploads/2025/12/Excel4Pro-Meetup-Series_Gebze.jpg
ORGANIZER;CN="Foodback":MAILTO:ekip@foodback.co
END:VEVENT
END:VCALENDAR