BEGIN:VCALENDAR
VERSION:2.0
PRODID:-//Excel4Pro - ECPv6.15.11//NONSGML v1.0//EN
CALSCALE:GREGORIAN
METHOD:PUBLISH
X-ORIGINAL-URL:https://excel4pro.eu
X-WR-CALDESC:Events for Excel4Pro
REFRESH-INTERVAL;VALUE=DURATION:PT1H
X-Robots-Tag:noindex
X-PUBLISHED-TTL:PT1H
BEGIN:VTIMEZONE
TZID:Europe/Helsinki
BEGIN:DAYLIGHT
TZOFFSETFROM:+0200
TZOFFSETTO:+0300
TZNAME:EEST
DTSTART:20250330T010000
END:DAYLIGHT
BEGIN:STANDARD
TZOFFSETFROM:+0300
TZOFFSETTO:+0200
TZNAME:EET
DTSTART:20251026T010000
END:STANDARD
BEGIN:DAYLIGHT
TZOFFSETFROM:+0200
TZOFFSETTO:+0300
TZNAME:EEST
DTSTART:20260329T010000
END:DAYLIGHT
BEGIN:STANDARD
TZOFFSETFROM:+0300
TZOFFSETTO:+0200
TZNAME:EET
DTSTART:20261025T010000
END:STANDARD
BEGIN:DAYLIGHT
TZOFFSETFROM:+0200
TZOFFSETTO:+0300
TZNAME:EEST
DTSTART:20270328T010000
END:DAYLIGHT
BEGIN:STANDARD
TZOFFSETFROM:+0300
TZOFFSETTO:+0200
TZNAME:EET
DTSTART:20271031T010000
END:STANDARD
END:VTIMEZONE
BEGIN:VEVENT
DTSTART;TZID=Europe/Helsinki:20260402T140000
DTEND;TZID=Europe/Helsinki:20260402T150000
DTSTAMP:20260421T230033
CREATED:20260326T124502Z
LAST-MODIFIED:20260326T124719Z
UID:10000010-1775138400-1775142000@excel4pro.eu
SUMMARY:Excel4Pro Meetups: Chat & Taste with Koolseed
DESCRIPTION:We are organizing an inspiring event focused on sustainable food systems\, entrepreneurship\, and alternative proteins. In this event\, Cansu Yegin\, Co-Founder of Koolseed\, will share her entrepreneurial journey\, her vision for sustainable food\, and her experience in developing plant-based\, protein-enriched products. The session will be moderated by İlknur Şahin\, Project Manager at Foodback. \nFollowing the talk\, there will be a tasting session featuring high-protein snacks developed by Koolseed. \nWe invite all students\, academics\, and stakeholders who are interested in entrepreneurship\, alternative proteins\, and sustainable food systems. As the event has limited capacity\, we recommend registering as soon as possible. \n📅Date: April 2\, 2026 \n🕑Time: 14:00 – 15:00 \n📍Location: Yıldız Technical University\, Yıldız Teknopark Conference Hall \n🔗Registration Link: https://luma.com/2cvcfkic
URL:https://excel4pro.eu/event/excel4pro-meetups-chat-taste-with-koolseed/
LOCATION:Yıldız Technical University\, Yıldız Teknopark Conference Hall
CATEGORIES:Project Events
ATTACH;FMTTYPE=image/jpeg:https://excel4pro.eu/wp-content/uploads/2026/03/Excel4Pro-Event-Series-Chat-Taste-.jpg
END:VEVENT
END:VCALENDAR